BEGIN:VCALENDAR
VERSION:2.0
PRODID:-//ISA Texas Channel Section - ECPv6.15.20//NONSGML v1.0//EN
CALSCALE:GREGORIAN
METHOD:PUBLISH
X-WR-CALNAME:ISA Texas Channel Section
X-ORIGINAL-URL:https://www.isatexaschannel.org
X-WR-CALDESC:Events for ISA Texas Channel Section
REFRESH-INTERVAL;VALUE=DURATION:PT1H
X-Robots-Tag:noindex
X-PUBLISHED-TTL:PT1H
BEGIN:VTIMEZONE
TZID:America/North_Dakota/Center
BEGIN:DAYLIGHT
TZOFFSETFROM:-0600
TZOFFSETTO:-0500
TZNAME:CDT
DTSTART:20250309T080000
END:DAYLIGHT
BEGIN:STANDARD
TZOFFSETFROM:-0500
TZOFFSETTO:-0600
TZNAME:CST
DTSTART:20251102T070000
END:STANDARD
BEGIN:DAYLIGHT
TZOFFSETFROM:-0600
TZOFFSETTO:-0500
TZNAME:CDT
DTSTART:20260308T080000
END:DAYLIGHT
BEGIN:STANDARD
TZOFFSETFROM:-0500
TZOFFSETTO:-0600
TZNAME:CST
DTSTART:20261101T070000
END:STANDARD
BEGIN:DAYLIGHT
TZOFFSETFROM:-0600
TZOFFSETTO:-0500
TZNAME:CDT
DTSTART:20270314T080000
END:DAYLIGHT
BEGIN:STANDARD
TZOFFSETFROM:-0500
TZOFFSETTO:-0600
TZNAME:CST
DTSTART:20271107T070000
END:STANDARD
BEGIN:DAYLIGHT
TZOFFSETFROM:-0600
TZOFFSETTO:-0500
TZNAME:CDT
DTSTART:20280312T080000
END:DAYLIGHT
BEGIN:STANDARD
TZOFFSETFROM:-0500
TZOFFSETTO:-0600
TZNAME:CST
DTSTART:20281105T070000
END:STANDARD
END:VTIMEZONE
BEGIN:VEVENT
DTSTART;VALUE=DATE:20260925
DTEND;VALUE=DATE:20260926
DTSTAMP:20260419T074418
CREATED:20251104T222025Z
LAST-MODIFIED:20251104T222156Z
UID:17328-1790294400-1790380799@www.isatexaschannel.org
SUMMARY:Golf Tournament
DESCRIPTION:Click here to register!
URL:https://www.isatexaschannel.org/event/golf26/
LOCATION:Battleground Golf Course\,\, 1600 Georgia Ave\, Deer Park\, TX\, 77536\, United States
CATEGORIES:Golf Tournament
ATTACH;FMTTYPE=image/png:https://www.isatexaschannel.org/wp-content/uploads/2025/11/Texas-Channel-Golf-2026.png
ORGANIZER;CN="Amanda Hardy":MAILTO:amanda@functionzinc.com
END:VEVENT
BEGIN:VEVENT
DTSTART;TZID=America/North_Dakota/Center:20270415T160000
DTEND;TZID=America/North_Dakota/Center:20270415T200000
DTSTAMP:20260419T074418
CREATED:20260408T161103Z
LAST-MODIFIED:20260408T161125Z
UID:17342-1807804800-1807819200@www.isatexaschannel.org
SUMMARY:2027 Automation Expo at the Pasadena Convention Center
DESCRIPTION:Vendor registration is now open for the 2027 Automation Expo\, taking place Thursday\, April 15\, 2027\, at the Pasadena Convention Center. This event brings together industry professionals for an evening of networking\, innovation\, and technology showcases. Vendors are invited to secure their space early to be part of this highly anticipated expo. \nAdditional details for attendees will be released soon. \nVendor Booking\n        Get Tickets
URL:https://www.isatexaschannel.org/event/2027-automation-expo/
LOCATION:Pasadena Convention Center\, 7902 Fairmont Parkway\, Pasadena\, TX\, 77507\, United States
CATEGORIES:Annual Automation Expo
ATTACH;FMTTYPE=image/jpeg:https://www.isatexaschannel.org/wp-content/uploads/2026/04/ISA-Automation-Expo-2027.jpg
END:VEVENT
END:VCALENDAR